BEGIN:VCALENDAR
VERSION:2.0
PRODID:-//Connected Youth - ECPv4.9.14//NONSGML v1.0//EN
CALSCALE:GREGORIAN
METHOD:PUBLISH
X-WR-CALNAME:Connected Youth
X-ORIGINAL-URL:https://www.connectedyouth.org.au
X-WR-CALDESC:Events for Connected Youth
BEGIN:VTIMEZONE
TZID:Australia/Brisbane
BEGIN:STANDARD
TZOFFSETFROM:+1000
TZOFFSETTO:+1000
TZNAME:AEST
DTSTART:20190101T000000
END:STANDARD
END:VTIMEZONE
BEGIN:VEVENT
DTSTART;TZID=Australia/Brisbane:20191024T190000
DTEND;TZID=Australia/Brisbane:20191024T203000
DTSTAMP:20210228T230313
CREATED:20191014T231617Z
LAST-MODIFIED:20191014T231617Z
UID:3276-1571943600-1571949000@www.connectedyouth.org.au
SUMMARY:Identity ~ Movie and Share Session
DESCRIPTION: \nOpen to senior high schoolers in years 10-12\, IDENTITY is a share session about exploring the one person you’ll live with for the rest of your life ~ yourself!\nJoin us for snacks\, a short movie and discussion! \n
URL:https://www.connectedyouth.org.au/event/identity-movie-and-share-session/
LOCATION:Start of the Sea Parish Hall\, 53 Passage Street\, Cleveland\, Queensland\, 4163\, Australia
ORGANIZER;CN="Ella%20-%20Youth%20Ministry%20Coordinator":MAILTO:connectedyouth.cleveland@bne.catholic.net.au
END:VEVENT
END:VCALENDAR