BEGIN:VCALENDAR
VERSION:2.0
PRODID:-//Connected Youth - ECPv4.9.14//NONSGML v1.0//EN
CALSCALE:GREGORIAN
METHOD:PUBLISH
X-WR-CALNAME:Connected Youth
X-ORIGINAL-URL:https://www.connectedyouth.org.au
X-WR-CALDESC:Events for Connected Youth
BEGIN:VTIMEZONE
TZID:Australia/Brisbane
BEGIN:STANDARD
TZOFFSETFROM:+1000
TZOFFSETTO:+1000
TZNAME:AEST
DTSTART:20190101T000000
END:STANDARD
END:VTIMEZONE
BEGIN:VEVENT
DTSTART;TZID=Australia/Brisbane:20191018T150000
DTEND;TZID=Australia/Brisbane:20191018T163000
DTSTAMP:20210228T230239
CREATED:20191014T232820Z
LAST-MODIFIED:20191014T232820Z
UID:3278-1571410800-1571416200@www.connectedyouth.org.au
SUMMARY:Hang with us! - Outreach @Carmel College
DESCRIPTION: \nCarmel College students\, join us for an awesome arvo! Pizza\, music\, games and more! Meet us @ the Mackillop Centre straight after school! Bring your friends along. \n
URL:https://www.connectedyouth.org.au/event/hang-with-us-outreach-carmel-college/
LOCATION:Carmel College\, 20 Ziegenfusz Road\, Thornlands\, Queensland\, 4164
ORGANIZER;CN="Ella%20-%20Youth%20Ministry%20Coordinator":MAILTO:connectedyouth.cleveland@bne.catholic.net.au
END:VEVENT
END:VCALENDAR