BEGIN:VCALENDAR
VERSION:2.0
PRODID:-//Connected Youth - ECPv4.9.14//NONSGML v1.0//EN
CALSCALE:GREGORIAN
METHOD:PUBLISH
X-WR-CALNAME:Connected Youth
X-ORIGINAL-URL:https://www.connectedyouth.org.au
X-WR-CALDESC:Events for Connected Youth
BEGIN:VTIMEZONE
TZID:Australia/Brisbane
BEGIN:STANDARD
TZOFFSETFROM:+1000
TZOFFSETTO:+1000
TZNAME:AEST
DTSTART:20190101T000000
END:STANDARD
END:VTIMEZONE
BEGIN:VEVENT
DTSTART;TZID=Australia/Brisbane:20191123T183000
DTEND;TZID=Australia/Brisbane:20191123T203000
DTSTAMP:20210228T230402
CREATED:20191110T220446Z
LAST-MODIFIED:20191110T223844Z
UID:3303-1574533800-1574541000@www.connectedyouth.org.au
SUMMARY:CY Christmas Party!
DESCRIPTION: \n
URL:https://www.connectedyouth.org.au/event/cy-christmas-party/
LOCATION:Start of the Sea Parish Hall\, 53 Passage Street\, Cleveland\, Queensland\, 4163\, Australia
ORGANIZER;CN="Ella%20-%20Youth%20Ministry%20Coordinator":MAILTO:connectedyouth.cleveland@bne.catholic.net.au
END:VEVENT
END:VCALENDAR