BEGIN:VCALENDAR
VERSION:2.0
PRODID:-//Connected Youth - ECPv4.9.14//NONSGML v1.0//EN
CALSCALE:GREGORIAN
METHOD:PUBLISH
X-WR-CALNAME:Connected Youth
X-ORIGINAL-URL:https://www.connectedyouth.org.au
X-WR-CALDESC:Events for Connected Youth
BEGIN:VTIMEZONE
TZID:Australia/Brisbane
BEGIN:STANDARD
TZOFFSETFROM:+1000
TZOFFSETTO:+1000
TZNAME:AEST
DTSTART:20190101T000000
END:STANDARD
END:VTIMEZONE
BEGIN:VEVENT
DTSTART;TZID=Australia/Brisbane:20191109T183000
DTEND;TZID=Australia/Brisbane:20191109T203000
DTSTAMP:20210228T230330
CREATED:20191005T202220Z
LAST-MODIFIED:20191005T202220Z
UID:3274-1573324200-1573331400@www.connectedyouth.org.au
SUMMARY:Connected Youth Launch Party
DESCRIPTION: \nCome and join the Connected Youth tribe as we celebrate our ministry with games\, music\, food and fun! Everyone is welcome to this celebration – come and connect with us and see what we’re all about! \n* Find your tribe @ Connected Youth! *\n* You belong here! * \n
URL:https://www.connectedyouth.org.au/event/connected-youth-launch-party/
LOCATION:Start of the Sea Parish Hall\, 53 Passage Street\, Cleveland\, Queensland\, 4163\, Australia
ORGANIZER;CN="Ella%20-%20Youth%20Ministry%20Coordinator":MAILTO:connectedyouth.cleveland@bne.catholic.net.au
END:VEVENT
END:VCALENDAR